BEGIN:VCALENDAR
VERSION:2.0
PRODID:-//Catholic Worker Movement - ECPv6.15.20//NONSGML v1.0//EN
CALSCALE:GREGORIAN
METHOD:PUBLISH
X-ORIGINAL-URL:https://catholicworker.org
X-WR-CALDESC:Events for Catholic Worker Movement
REFRESH-INTERVAL;VALUE=DURATION:PT1H
X-Robots-Tag:noindex
X-PUBLISHED-TTL:PT1H
BEGIN:VTIMEZONE
TZID:America/Chicago
BEGIN:DAYLIGHT
TZOFFSETFROM:-0600
TZOFFSETTO:-0500
TZNAME:CDT
DTSTART:20230312T080000
END:DAYLIGHT
BEGIN:STANDARD
TZOFFSETFROM:-0500
TZOFFSETTO:-0600
TZNAME:CST
DTSTART:20231105T070000
END:STANDARD
BEGIN:DAYLIGHT
TZOFFSETFROM:-0600
TZOFFSETTO:-0500
TZNAME:CDT
DTSTART:20240310T080000
END:DAYLIGHT
BEGIN:STANDARD
TZOFFSETFROM:-0500
TZOFFSETTO:-0600
TZNAME:CST
DTSTART:20241103T070000
END:STANDARD
BEGIN:DAYLIGHT
TZOFFSETFROM:-0600
TZOFFSETTO:-0500
TZNAME:CDT
DTSTART:20250309T080000
END:DAYLIGHT
BEGIN:STANDARD
TZOFFSETFROM:-0500
TZOFFSETTO:-0600
TZNAME:CST
DTSTART:20251102T070000
END:STANDARD
END:VTIMEZONE
BEGIN:VEVENT
DTSTART;TZID=America/Chicago:20241008T000000
DTEND;TZID=America/Chicago:20241029T235959
DTSTAMP:20260419T160300
CREATED:20240923T162455Z
LAST-MODIFIED:20240923T162458Z
UID:10000193-1728345600-1730246399@catholicworker.org
SUMMARY:The Spiritual Crises of Modernity: From Nominalism to Nihilism
DESCRIPTION:The Spiritual Crises of Modernity: From Nominalism to Nihilism \n\n\n\nA Maurin Academy course with Deacon Christopher May \n\n\n\n7 pm CDT on Tuesdays October 08\, 15\, 22\, 29 \n\n\n\nReportedly\, William Temple\, who became the Archbishop of Canterbury in 1942\, once asked his father\, who was then the Archbishop: “Father\, why don’t philosophers rule the world?” His father looked down at him and replied\, “But they do rule the world — 200 years after they are dead.” \n\n\n\nIn this course\, we will examine how certain rarified discussions among philosophers that took place in Europe about the year 1300 dramatically changed our concepts of God\, of the human person\, of the natural world\, and of knowledge\, and so set the stage for the subsequent development of the Modern experiment. \n\n\n\nWe’ll not speculate too much about “what to do” and “where do we go from here.” Rather we’ll try to recapture an appreciation of what we as a civilization lost when we took the deadly detour to Modernity. We’ll try to identify some of the unchallenged and unacknowledged assumptions that have brought us a world that seems so inimical to human flourishing. We can’t learn how to “make a world where it is easier to be good” until we know just what it is that we’ve already done to make a world where it seems so difficult to be good. \n\n\n\nWe’ll start by looking at late Medieval debates about what “is” is (without apology to Bill Clinton)\, then look at how this led to a redefinition of the nature of God and of the human person. Then on to the split between faith and reason\, to our change in our ideas about nature and the world\, to the increasing emphasis on the individual and on sovereignty\, to the rise of science\, and how the dominance of science led to the marginalization and privatization of morality. Finally we’ll examine how late modernity\, with its neoliberal capitalism\, is the cause of much spiritual distress and mental illness. \n\n\n\nClass Schedule: \n\n\n\nOctober 8: The Crisis of Being – Security is Lost \n\n\n\nOctober 15: The Crisis of Meaning – Reality is Lost \n\n\n\nOctober 22: The Crisis of Knowledge – Security is Sought \n\n\n\nOctober 29: The Crisis of the Self – Community is Lost \n\n\n\nChristopher May is a Catholic deacon in Pennsylvania\, serving the poor\, especially those who experience mental health challenges.
URL:https://catholicworker.org/event/the-spiritual-crises-of-modernity-from-nominalism-to-nihilism/
CATEGORIES:Educational,Virtual Events
ATTACH;FMTTYPE=image/png:https://catholicworker.org/wp-content/uploads/2024/09/spiritualcrises.png
END:VEVENT
END:VCALENDAR